BEGIN:VCALENDAR
VERSION:2.0
PRODID:-//Actorvan - ECPv5.11.0//NONSGML v1.0//EN
CALSCALE:GREGORIAN
METHOD:PUBLISH
X-WR-CALNAME:Actorvan
X-ORIGINAL-URL:https://actorvanstudios.com
X-WR-CALDESC:Events for Actorvan
BEGIN:VTIMEZONE
TZID:America/Vancouver
BEGIN:DAYLIGHT
TZOFFSETFROM:-0800
TZOFFSETTO:-0700
TZNAME:PDT
DTSTART:20240310T100000
END:DAYLIGHT
BEGIN:STANDARD
TZOFFSETFROM:-0700
TZOFFSETTO:-0800
TZNAME:PST
DTSTART:20241103T090000
END:STANDARD
END:VTIMEZONE
BEGIN:VEVENT
DTSTART;TZID=America/Vancouver:20241023T120000
DTEND;TZID=America/Vancouver:20241023T150000
DTSTAMP:20260425T193801
CREATED:20240917T143949Z
LAST-MODIFIED:20241017T013454Z
UID:17567-1729684800-1729695600@actorvanstudios.com
SUMMARY:The Meisner Technique Deepening the Craft Level 2
DESCRIPTION:
URL:https://actorvanstudios.com/product/the-meisner-technique-deepening-the-craft-level-2/
END:VEVENT
BEGIN:VEVENT
DTSTART;TZID=America/Vancouver:20241023T180000
DTEND;TZID=America/Vancouver:20241023T210000
DTSTAMP:20260425T193801
CREATED:20240927T003608Z
LAST-MODIFIED:20240927T003608Z
UID:17623-1729706400-1729717200@actorvanstudios.com
SUMMARY:The On-Camera Audition Class with Michelle Allen
DESCRIPTION:
URL:https://actorvanstudios.com/product/the-on-camera-audition-class-with-michelle-allen/
END:VEVENT
END:VCALENDAR