BEGIN:VCALENDAR
VERSION:2.0
PRODID:-//Actorvan - ECPv5.11.0//NONSGML v1.0//EN
CALSCALE:GREGORIAN
METHOD:PUBLISH
X-WR-CALNAME:Actorvan
X-ORIGINAL-URL:https://actorvanstudios.com
X-WR-CALDESC:Events for Actorvan
BEGIN:VTIMEZONE
TZID:America/Vancouver
BEGIN:DAYLIGHT
TZOFFSETFROM:-0800
TZOFFSETTO:-0700
TZNAME:PDT
DTSTART:20240310T100000
END:DAYLIGHT
BEGIN:STANDARD
TZOFFSETFROM:-0700
TZOFFSETTO:-0800
TZNAME:PST
DTSTART:20241103T090000
END:STANDARD
END:VTIMEZONE
BEGIN:VEVENT
DTSTART;TZID=America/Vancouver:20241016T140000
DTEND;TZID=America/Vancouver:20241016T170000
DTSTAMP:20260425T084058
CREATED:20240802T021731Z
LAST-MODIFIED:20240802T021731Z
UID:17355-1729087200-1729098000@actorvanstudios.com
SUMMARY:The Meisner Technique Deepening the Craft Level 2
DESCRIPTION:
URL:https://actorvanstudios.com/product/the-meisner-technique-deepening-the-craft-level-2/
END:VEVENT
BEGIN:VEVENT
DTSTART;TZID=America/Vancouver:20241016T180000
DTEND;TZID=America/Vancouver:20241016T210000
DTSTAMP:20260425T084058
CREATED:20240903T024406Z
LAST-MODIFIED:20240903T024406Z
UID:17532-1729101600-1729112400@actorvanstudios.com
SUMMARY:The On-Camera Audition Class with Michelle Allen
DESCRIPTION:
URL:https://actorvanstudios.com/product/the-on-camera-audition-class-with-michelle-allen/
END:VEVENT
END:VCALENDAR