BEGIN:VCALENDAR
VERSION:2.0
PRODID:-//Actorvan - ECPv5.11.0//NONSGML v1.0//EN
CALSCALE:GREGORIAN
METHOD:PUBLISH
X-WR-CALNAME:Actorvan
X-ORIGINAL-URL:https://actorvanstudios.com
X-WR-CALDESC:Events for Actorvan
BEGIN:VTIMEZONE
TZID:America/Vancouver
BEGIN:DAYLIGHT
TZOFFSETFROM:-0800
TZOFFSETTO:-0700
TZNAME:PDT
DTSTART:20240310T100000
END:DAYLIGHT
BEGIN:STANDARD
TZOFFSETFROM:-0700
TZOFFSETTO:-0800
TZNAME:PST
DTSTART:20241103T090000
END:STANDARD
END:VTIMEZONE
BEGIN:VEVENT
DTSTART;TZID=America/Vancouver:20240907T100000
DTEND;TZID=America/Vancouver:20240907T170000
DTSTAMP:20260422T213055
CREATED:20240709T003601Z
LAST-MODIFIED:20240709T003601Z
UID:17208-1725703200-1725728400@actorvanstudios.com
SUMMARY:Action for Actors & Firearms for Film workshop
DESCRIPTION:
URL:https://actorvanstudios.com/product/action-for-actors-firearms-for-film-workshop/
END:VEVENT
BEGIN:VEVENT
DTSTART;TZID=America/Vancouver:20240907T100000
DTEND;TZID=America/Vancouver:20240907T140000
DTSTAMP:20260422T213055
CREATED:20240731T024448Z
LAST-MODIFIED:20240731T024448Z
UID:17329-1725703200-1725717600@actorvanstudios.com
SUMMARY:On Camera Fundamentals – In Person
DESCRIPTION:
URL:https://actorvanstudios.com/product/on-camera-fundamentals-in-person/
END:VEVENT
END:VCALENDAR