BEGIN:VCALENDAR
VERSION:2.0
PRODID:-//Actorvan - ECPv5.11.0//NONSGML v1.0//EN
CALSCALE:GREGORIAN
METHOD:PUBLISH
X-WR-CALNAME:Actorvan
X-ORIGINAL-URL:https://actorvanstudios.com
X-WR-CALDESC:Events for Actorvan
BEGIN:VTIMEZONE
TZID:America/Vancouver
BEGIN:DAYLIGHT
TZOFFSETFROM:-0800
TZOFFSETTO:-0700
TZNAME:PDT
DTSTART:20240310T100000
END:DAYLIGHT
BEGIN:STANDARD
TZOFFSETFROM:-0700
TZOFFSETTO:-0800
TZNAME:PST
DTSTART:20241103T090000
END:STANDARD
END:VTIMEZONE
BEGIN:VEVENT
DTSTART;TZID=America/Vancouver:20240817T090000
DTEND;TZID=America/Vancouver:20240817T170000
DTSTAMP:20260419T113927
CREATED:20240730T003513Z
LAST-MODIFIED:20240730T003513Z
UID:17291-1723885200-1723914000@actorvanstudios.com
SUMMARY:The Casting Director Workshop with Ann Forry
DESCRIPTION:
URL:https://actorvanstudios.com/product/the-casting-director-workshop-with-ann-forry-2024/
END:VEVENT
BEGIN:VEVENT
DTSTART;TZID=America/Vancouver:20240817T100000
DTEND;TZID=America/Vancouver:20240817T140000
DTSTAMP:20260419T113927
CREATED:20240620T021108Z
LAST-MODIFIED:20240620T021108Z
UID:17166-1723888800-1723903200@actorvanstudios.com
SUMMARY:On Camera Fundamentals – In Person
DESCRIPTION:
URL:https://actorvanstudios.com/product/on-camera-fundamentals-in-person/
END:VEVENT
END:VCALENDAR