BEGIN:VCALENDAR
VERSION:2.0
PRODID:-//Actorvan - ECPv5.11.0//NONSGML v1.0//EN
CALSCALE:GREGORIAN
METHOD:PUBLISH
X-WR-CALNAME:Actorvan
X-ORIGINAL-URL:https://actorvanstudios.com
X-WR-CALDESC:Events for Actorvan
BEGIN:VTIMEZONE
TZID:America/Vancouver
BEGIN:DAYLIGHT
TZOFFSETFROM:-0800
TZOFFSETTO:-0700
TZNAME:PDT
DTSTART:20240310T100000
END:DAYLIGHT
BEGIN:STANDARD
TZOFFSETFROM:-0700
TZOFFSETTO:-0800
TZNAME:PST
DTSTART:20241103T090000
END:STANDARD
END:VTIMEZONE
BEGIN:VEVENT
DTSTART;TZID=America/Vancouver:20240714T130000
DTEND;TZID=America/Vancouver:20240714T163000
DTSTAMP:20260423T141147
CREATED:20240609T035328Z
LAST-MODIFIED:20240609T035328Z
UID:17131-1720962000-1720974600@actorvanstudios.com
SUMMARY:The Online Animation Workshop with Kristin Paiva
DESCRIPTION:
URL:https://actorvanstudios.com/product/the-online-animation-workshop-with-kristin-paiva/
END:VEVENT
END:VCALENDAR